Package: bacon Version: 1.35.0 Command: /home/biocbuild/bbs-3.21-bioc/R/bin/R CMD build --keep-empty-dirs --no-resave-data bacon StartedAt: 2025-02-05 16:11:52 -0500 (Wed, 05 Feb 2025) EndedAt: 2025-02-05 16:12:31 -0500 (Wed, 05 Feb 2025) EllapsedTime: 39.1 seconds RetCode: 0 Status: OK PackageFile: bacon_1.35.0.tar.gz PackageFileSize: 1.862 MiB