Package: bacon Version: 1.35.0 Command: /Library/Frameworks/R.framework/Resources/bin/R CMD build --keep-empty-dirs --no-resave-data bacon StartedAt: 2025-02-19 15:54:37 -0500 (Wed, 19 Feb 2025) EndedAt: 2025-02-19 15:55:18 -0500 (Wed, 19 Feb 2025) EllapsedTime: 41.1 seconds RetCode: 0 Status: OK PackageFile: bacon_1.35.0.tar.gz PackageFileSize: 2.082 MiB