Package: bacon Version: 1.35.0 Command: /Library/Frameworks/R.framework/Resources/bin/R CMD check --install=check:bacon.install-out.txt --library=/Library/Frameworks/R.framework/Resources/library --no-vignettes --timings bacon_1.35.0.tar.gz StartedAt: 2025-02-05 18:09:40 -0500 (Wed, 05 Feb 2025) EndedAt: 2025-02-05 18:10:04 -0500 (Wed, 05 Feb 2025) EllapsedTime: 23.2 seconds RetCode: 0 Status: OK CheckDir: bacon.Rcheck Warnings: 0