Package: bacon Version: 1.35.0 Command: /Library/Frameworks/R.framework/Resources/bin/R CMD build --keep-empty-dirs --no-resave-data bacon StartedAt: 2025-02-05 15:36:30 -0500 (Wed, 05 Feb 2025) EndedAt: 2025-02-05 15:36:46 -0500 (Wed, 05 Feb 2025) EllapsedTime: 16.2 seconds RetCode: 0 Status: OK PackageFile: bacon_1.35.0.tar.gz PackageFileSize: 2.004 MiB