Package: bacon Version: 1.35.0 Command: rm -rf bacon.buildbin-libdir && mkdir bacon.buildbin-libdir && /Users/biocbuild/BBS/utils/build-universal.sh bacon_1.35.0.tar.gz /Library/Frameworks/R.framework/Resources/bin/R bacon.buildbin-libdir StartedAt: 2025-02-05 22:11:11 -0500 (Wed, 05 Feb 2025) EndedAt: 2025-02-05 22:11:15 -0500 (Wed, 05 Feb 2025) EllapsedTime: 4.1 seconds RetCode: 0 Status: OK PackageFile: bacon_1.35.0.tgz PackageFileSize: 2.179 MiB