Package: bacon Version: 1.35.0 Maintainer: Maarten van Iterson MaintainerEmail: mviterson at gmail.com git_url: https://git.bioconductor.org/packages/bacon git_branch: devel git_last_commit: 22a0e4e git_last_commit_date: 2024-10-29 10:08:26 -0500 (Tue, 29 Oct 2024)