Package: awst Version: 1.17.0 Command: /home/biocbuild/bbs-3.22-bioc/R/bin/R CMD INSTALL awst StartedAt: 2025-10-03 15:19:58 -0400 (Fri, 03 Oct 2025) EndedAt: 2025-10-03 15:20:16 -0400 (Fri, 03 Oct 2025) EllapsedTime: 18.7 seconds RetCode: 0 Status: OK