Package: awst Version: 1.17.0 Command: /home/biocbuild/bbs-3.22-bioc/R/bin/R CMD build --keep-empty-dirs --no-resave-data --md5 awst StartedAt: 2025-10-03 16:14:31 -0400 (Fri, 03 Oct 2025) EndedAt: 2025-10-03 16:15:16 -0400 (Fri, 03 Oct 2025) EllapsedTime: 45.0 seconds RetCode: 0 Status: OK PackageFile: awst_1.17.0.tar.gz PackageFileSize: 421.8 KiB