Package: autonomics Version: 1.17.0 Command: chmod a+r autonomics -R && F:\biocbuild\bbs-3.22-bioc\R\bin\R.exe CMD build --keep-empty-dirs --no-resave-data autonomics StartedAt: 2025-08-14 18:31:00 -0400 (Thu, 14 Aug 2025) EndedAt: 2025-08-14 18:34:49 -0400 (Thu, 14 Aug 2025) EllapsedTime: 229.1 seconds RetCode: 0 Status: OK PackageFile: autonomics_1.17.0.tar.gz PackageFileSize: 1.257 MiB