Package: autonomics Version: 1.17.0 Command: rm -rf autonomics.buildbin-libdir && mkdir autonomics.buildbin-libdir && F:\biocbuild\bbs-3.22-bioc\R\bin\R.exe CMD INSTALL --build --library=autonomics.buildbin-libdir autonomics_1.17.0.tar.gz StartedAt: 2025-08-15 09:45:12 -0400 (Fri, 15 Aug 2025) EndedAt: 2025-08-15 09:49:14 -0400 (Fri, 15 Aug 2025) EllapsedTime: 242.1 seconds RetCode: 0 Status: OK PackageFile: autonomics_1.17.0.zip PackageFileSize: 2.223 MiB