Package: attract Version: 1.61.0 Command: chmod a+r attract -R && F:\biocbuild\bbs-3.22-bioc\R\bin\R.exe CMD build --keep-empty-dirs --no-resave-data attract StartedAt: 2025-08-14 18:30:35 -0400 (Thu, 14 Aug 2025) EndedAt: 2025-08-14 18:33:34 -0400 (Thu, 14 Aug 2025) EllapsedTime: 179.3 seconds RetCode: 0 Status: OK PackageFile: attract_1.61.0.tar.gz PackageFileSize: 4.207 MiB