Package: attract Version: 1.61.0 Command: /home/biocbuild/bbs-3.22-bioc/R/bin/R CMD INSTALL attract StartedAt: 2025-10-17 15:40:38 -0400 (Fri, 17 Oct 2025) EndedAt: 2025-10-17 15:40:59 -0400 (Fri, 17 Oct 2025) EllapsedTime: 21.0 seconds RetCode: 0 Status: OK