Package: attract Version: 1.61.0 Command: /home/biocbuild/bbs-3.22-bioc/R/bin/R CMD build --keep-empty-dirs --no-resave-data --md5 attract StartedAt: 2025-10-16 17:17:10 -0400 (Thu, 16 Oct 2025) EndedAt: 2025-10-16 17:19:45 -0400 (Thu, 16 Oct 2025) EllapsedTime: 155.1 seconds RetCode: 0 Status: OK PackageFile: attract_1.61.0.tar.gz PackageFileSize: 4.295 MiB