Package: attract Version: 1.59.0 Command: /home/biocbuild/bbs-3.21-bioc/R/bin/R CMD INSTALL attract StartedAt: 2025-02-16 15:44:56 -0500 (Sun, 16 Feb 2025) EndedAt: 2025-02-16 15:45:18 -0500 (Sun, 16 Feb 2025) EllapsedTime: 22.2 seconds RetCode: 0 Status: OK