Package: atena Version: 1.15.2 Command: /home/biocbuild/bbs-3.22-bioc/R/bin/R CMD build --keep-empty-dirs --no-resave-data --md5 atena StartedAt: 2025-09-30 16:14:08 -0400 (Tue, 30 Sep 2025) EndedAt: 2025-09-30 16:26:25 -0400 (Tue, 30 Sep 2025) EllapsedTime: 736.6 seconds RetCode: 0 Status: OK PackageFile: atena_1.15.2.tar.gz PackageFileSize: 1.283 MiB