Package: atena Version: 1.13.0 Command: /home/biocbuild/bbs-3.21-bioc/R/bin/R CMD INSTALL atena StartedAt: 2025-02-03 15:46:49 -0500 (Mon, 03 Feb 2025) EndedAt: 2025-02-03 15:47:32 -0500 (Mon, 03 Feb 2025) EllapsedTime: 43.4 seconds RetCode: 0 Status: OK