Package: atena Version: 1.13.0 Command: /home/biocbuild/bbs-3.21-bioc/R/bin/R CMD check --install=check:atena.install-out.txt --library=/home/biocbuild/bbs-3.21-bioc/R/site-library --timings atena_1.13.0.tar.gz StartedAt: 2025-02-05 20:04:51 -0500 (Wed, 05 Feb 2025) EndedAt: 2025-02-05 20:24:01 -0500 (Wed, 05 Feb 2025) EllapsedTime: 1150.5 seconds RetCode: 0 Status: OK CheckDir: atena.Rcheck Warnings: 0