Package: atena Version: 1.13.0 Command: /home/biocbuild/bbs-3.21-bioc/R/bin/R CMD build --keep-empty-dirs --no-resave-data atena StartedAt: 2025-02-05 16:10:14 -0500 (Wed, 05 Feb 2025) EndedAt: 2025-02-05 16:22:26 -0500 (Wed, 05 Feb 2025) EllapsedTime: 732.6 seconds RetCode: 0 Status: OK PackageFile: atena_1.13.0.tar.gz PackageFileSize: 1.283 MiB