Package: atSNP Version: 1.25.0 Command: chmod a+r atSNP -R && F:\biocbuild\bbs-3.22-bioc\R\bin\R.exe CMD build --keep-empty-dirs --no-resave-data atSNP StartedAt: 2025-08-14 18:30:34 -0400 (Thu, 14 Aug 2025) EndedAt: 2025-08-14 18:32:17 -0400 (Thu, 14 Aug 2025) EllapsedTime: 103.1 seconds RetCode: 0 Status: OK PackageFile: atSNP_1.25.0.tar.gz PackageFileSize: 829.1 KiB