Package: atSNP Version: 1.23.0 Command: chmod a+r atSNP -R && E:\biocbuild\bbs-3.21-bioc\R\bin\R.exe CMD build --keep-empty-dirs --no-resave-data atSNP StartedAt: 2025-02-16 17:10:35 -0500 (Sun, 16 Feb 2025) EndedAt: 2025-02-16 17:12:20 -0500 (Sun, 16 Feb 2025) EllapsedTime: 104.9 seconds RetCode: 0 Status: OK PackageFile: atSNP_1.23.0.tar.gz PackageFileSize: 829.3 KiB