Package: atSNP Version: 1.25.0 Command: /home/biocbuild/bbs-3.22-bioc/R/bin/R CMD INSTALL atSNP StartedAt: 2025-10-03 15:51:50 -0400 (Fri, 03 Oct 2025) EndedAt: 2025-10-03 15:52:49 -0400 (Fri, 03 Oct 2025) EllapsedTime: 58.7 seconds RetCode: 0 Status: OK