Package: atSNP Version: 1.25.0 Command: /home/biocbuild/bbs-3.22-bioc/R/bin/R CMD build --keep-empty-dirs --no-resave-data --md5 atSNP StartedAt: 2025-10-03 16:12:55 -0400 (Fri, 03 Oct 2025) EndedAt: 2025-10-03 16:14:14 -0400 (Fri, 03 Oct 2025) EllapsedTime: 78.0 seconds RetCode: 0 Status: OK PackageFile: atSNP_1.25.0.tar.gz PackageFileSize: 960.7 KiB