Package: atSNP Version: 1.23.0 Command: /Library/Frameworks/R.framework/Resources/bin/R CMD check --install=check:atSNP.install-out.txt --library=/Library/Frameworks/R.framework/Resources/library --no-vignettes --timings atSNP_1.23.0.tar.gz StartedAt: 2025-02-16 18:49:19 -0500 (Sun, 16 Feb 2025) EndedAt: 2025-02-16 18:55:54 -0500 (Sun, 16 Feb 2025) EllapsedTime: 394.3 seconds RetCode: 0 Status: OK CheckDir: atSNP.Rcheck Warnings: 0