Package: atSNP Version: 1.25.0 Maintainer: Sunyoung Shin MaintainerEmail: sunyoung.shin at utdallas.edu git_url: https://git.bioconductor.org/packages/atSNP git_branch: devel git_last_commit: 3f4ecf5 git_last_commit_date: 2025-04-15 11:41:11 -0400 (Tue, 15 Apr 2025)