Package: assorthead Version: 1.1.13 Command: /home/biocbuild/bbs-3.21-bioc/R/bin/R CMD build --keep-empty-dirs --no-resave-data assorthead StartedAt: 2025-02-03 16:19:15 -0500 (Mon, 03 Feb 2025) EndedAt: 2025-02-03 16:19:21 -0500 (Mon, 03 Feb 2025) EllapsedTime: 6.0 seconds RetCode: 0 Status: OK PackageFile: assorthead_1.1.13.tar.gz PackageFileSize: 1.738 MiB