Package: assorthead Version: 1.1.13 Command: /Library/Frameworks/R.framework/Resources/bin/R CMD INSTALL assorthead StartedAt: 2025-01-31 15:00:57 -0500 (Fri, 31 Jan 2025) EndedAt: 2025-01-31 15:00:59 -0500 (Fri, 31 Jan 2025) EllapsedTime: 2.0 seconds RetCode: 0 Status: OK