Package: assorthead Version: 1.1.13 Command: /Library/Frameworks/R.framework/Resources/bin/R CMD check --install=check:assorthead.install-out.txt --library=/Library/Frameworks/R.framework/Resources/library --no-vignettes --timings assorthead_1.1.13.tar.gz StartedAt: 2025-02-05 18:08:07 -0500 (Wed, 05 Feb 2025) EndedAt: 2025-02-05 18:08:15 -0500 (Wed, 05 Feb 2025) EllapsedTime: 8.1 seconds RetCode: 0 Status: OK CheckDir: assorthead.Rcheck Warnings: 0