Package: assorthead Version: 1.3.0 Maintainer: Aaron Lun MaintainerEmail: infinite.monkeys.with.keyboards at gmail.com git_url: https://git.bioconductor.org/packages/assorthead git_branch: devel git_last_commit: b3339fb git_last_commit_date: 2025-04-15 13:39:03 -0400 (Tue, 15 Apr 2025)