Package: arrayQualityMetrics Version: 3.65.0 Command: /home/biocbuild/bbs-3.22-bioc/R/bin/R CMD INSTALL arrayQualityMetrics StartedAt: 2025-07-15 15:28:41 -0400 (Tue, 15 Jul 2025) EndedAt: 2025-07-15 15:29:05 -0400 (Tue, 15 Jul 2025) EllapsedTime: 23.6 seconds RetCode: 0 Status: OK