Package: arrayQualityMetrics Version: 3.65.0 Command: /home/biocbuild/bbs-3.22-bioc/R/bin/R CMD build --keep-empty-dirs --no-resave-data --md5 arrayQualityMetrics StartedAt: 2025-07-15 16:07:19 -0400 (Tue, 15 Jul 2025) EndedAt: 2025-07-15 16:13:49 -0400 (Tue, 15 Jul 2025) EllapsedTime: 389.4 seconds RetCode: 0 Status: OK PackageFile: arrayQualityMetrics_3.65.0.tar.gz PackageFileSize: 595.6 KiB