Package: arrayQuality Version: 1.87.0 Command: /home/biocbuild/R/R/bin/R CMD INSTALL arrayQuality StartedAt: 2025-09-29 20:32:38 -0000 (Mon, 29 Sep 2025) EndedAt: 2025-09-29 20:33:13 -0000 (Mon, 29 Sep 2025) EllapsedTime: 34.7 seconds RetCode: 0 Status: OK