Package: arrayQuality Version: 1.87.0 Command: /home/biocbuild/R/R/bin/R CMD build --keep-empty-dirs --no-resave-data arrayQuality StartedAt: 2025-09-29 21:59:24 -0000 (Mon, 29 Sep 2025) EndedAt: 2025-09-29 21:59:35 -0000 (Mon, 29 Sep 2025) EllapsedTime: 11.0 seconds RetCode: 0 Status: OK PackageFile: arrayQuality_1.87.0.tar.gz PackageFileSize: 12.82 MiB