Package: arrayQuality Version: 1.85.0 Command: E:\biocbuild\bbs-3.21-bioc\R\bin\R.exe CMD INSTALL arrayQuality StartedAt: 2025-02-04 15:24:30 -0500 (Tue, 04 Feb 2025) EndedAt: 2025-02-04 15:25:12 -0500 (Tue, 04 Feb 2025) EllapsedTime: 42.3 seconds RetCode: 0 Status: OK