Package: arrayQuality Version: 1.85.0 Command: E:\biocbuild\bbs-3.21-bioc\R\bin\R.exe CMD check --no-multiarch --install=check:arrayQuality.install-out.txt --library=E:\biocbuild\bbs-3.21-bioc\R\library --no-vignettes --timings arrayQuality_1.85.0.tar.gz StartedAt: 2025-02-04 23:05:09 -0500 (Tue, 04 Feb 2025) EndedAt: 2025-02-04 23:06:07 -0500 (Tue, 04 Feb 2025) EllapsedTime: 57.3 seconds RetCode: 0 Status: WARNINGS CheckDir: arrayQuality.Rcheck Warnings: 1