Package: arrayQuality Version: 1.87.0 Command: /home/biocbuild/bbs-3.22-bioc/R/bin/R CMD INSTALL arrayQuality StartedAt: 2025-07-25 17:17:54 -0400 (Fri, 25 Jul 2025) EndedAt: 2025-07-25 17:18:14 -0400 (Fri, 25 Jul 2025) EllapsedTime: 19.9 seconds RetCode: 0 Status: OK