Package: arrayQuality Version: 1.87.0 Command: /Library/Frameworks/R.framework/Resources/bin/R CMD INSTALL arrayQuality StartedAt: 2025-04-30 15:06:06 -0400 (Wed, 30 Apr 2025) EndedAt: 2025-04-30 15:06:41 -0400 (Wed, 30 Apr 2025) EllapsedTime: 34.7 seconds RetCode: 0 Status: OK