Package: arrayQuality Version: 1.85.0 Command: /Library/Frameworks/R.framework/Resources/bin/R CMD check --install=check:arrayQuality.install-out.txt --library=/Library/Frameworks/R.framework/Resources/library --no-vignettes --timings arrayQuality_1.85.0.tar.gz StartedAt: 2025-02-04 18:56:26 -0500 (Tue, 04 Feb 2025) EndedAt: 2025-02-04 18:57:14 -0500 (Tue, 04 Feb 2025) EllapsedTime: 47.6 seconds RetCode: 0 Status: WARNINGS CheckDir: arrayQuality.Rcheck Warnings: 1