Package: arrayQuality Version: 1.87.0 Command: rm -rf arrayQuality.buildbin-libdir && mkdir arrayQuality.buildbin-libdir && /Users/biocbuild/BBS/utils/build-universal.sh arrayQuality_1.87.0.tar.gz /Library/Frameworks/R.framework/Resources/bin/R arrayQuality.buildbin-libdir StartedAt: 2025-05-02 00:31:41 -0400 (Fri, 02 May 2025) EndedAt: 2025-05-02 00:32:00 -0400 (Fri, 02 May 2025) EllapsedTime: 18.6 seconds RetCode: 0 Status: OK PackageFile: arrayQuality_1.87.0.tgz PackageFileSize: 12.17 MiB