Package: arrayQuality Version: 1.85.0 Command: /home/biocbuild/R/R/bin/R CMD check --install=check:arrayQuality.install-out.txt --library=/home/biocbuild/R/R/site-library --no-vignettes --timings arrayQuality_1.85.0.tar.gz StartedAt: 2025-01-28 03:34:47 -0000 (Tue, 28 Jan 2025) EndedAt: 2025-01-28 03:35:28 -0000 (Tue, 28 Jan 2025) EllapsedTime: 41.0 seconds RetCode: 0 Status: WARNINGS CheckDir: arrayQuality.Rcheck Warnings: 1