Package: arrayQuality Version: 1.85.0 Command: /Library/Frameworks/R.framework/Resources/bin/R CMD build --keep-empty-dirs --no-resave-data arrayQuality StartedAt: 2025-02-05 15:34:40 -0500 (Wed, 05 Feb 2025) EndedAt: 2025-02-05 15:34:45 -0500 (Wed, 05 Feb 2025) EllapsedTime: 5.1 seconds RetCode: 0 Status: OK PackageFile: arrayQuality_1.85.0.tar.gz PackageFileSize: 12.82 MiB