Package: arrayMvout Version: 1.65.0 Command: E:\biocbuild\bbs-3.21-bioc\R\bin\R.exe CMD INSTALL arrayMvout StartedAt: 2025-02-16 16:52:09 -0500 (Sun, 16 Feb 2025) EndedAt: 2025-02-16 16:53:09 -0500 (Sun, 16 Feb 2025) EllapsedTime: 60.1 seconds RetCode: 0 Status: OK