Package: arrayMvout Version: 1.65.0 Command: /home/biocbuild/bbs-3.21-bioc/R/bin/R CMD build --keep-empty-dirs --no-resave-data arrayMvout StartedAt: 2025-02-16 16:13:44 -0500 (Sun, 16 Feb 2025) EndedAt: 2025-02-16 16:14:49 -0500 (Sun, 16 Feb 2025) EllapsedTime: 65.1 seconds RetCode: 0 Status: OK PackageFile: arrayMvout_1.65.0.tar.gz PackageFileSize: 692.9 KiB