Package: arrayMvout Version: 1.65.0 Command: /Library/Frameworks/R.framework/Resources/bin/R CMD INSTALL arrayMvout StartedAt: 2025-02-16 15:43:44 -0500 (Sun, 16 Feb 2025) EndedAt: 2025-02-16 15:44:48 -0500 (Sun, 16 Feb 2025) EllapsedTime: 63.5 seconds RetCode: 0 Status: OK