Package: arrayMvout Version: 1.65.0 Command: /Library/Frameworks/R.framework/Resources/bin/R CMD build --keep-empty-dirs --no-resave-data arrayMvout StartedAt: 2025-02-16 15:33:40 -0500 (Sun, 16 Feb 2025) EndedAt: 2025-02-16 15:34:08 -0500 (Sun, 16 Feb 2025) EllapsedTime: 28.3 seconds RetCode: 0 Status: OK PackageFile: arrayMvout_1.65.0.tar.gz PackageFileSize: 693 KiB