Package: aroma.light Version: 3.39.0 Command: /home/biocbuild/R/R/bin/R CMD build --keep-empty-dirs --no-resave-data aroma.light StartedAt: 2025-10-13 22:06:05 -0000 (Mon, 13 Oct 2025) EndedAt: 2025-10-13 22:06:07 -0000 (Mon, 13 Oct 2025) EllapsedTime: 2.0 seconds RetCode: 0 Status: OK PackageFile: aroma.light_3.39.0.tar.gz PackageFileSize: 379.3 KiB