Package: aroma.light Version: 3.37.0 Command: /home/biocbuild/bbs-3.21-bioc/R/bin/R CMD INSTALL aroma.light StartedAt: 2025-02-03 15:13:37 -0500 (Mon, 03 Feb 2025) EndedAt: 2025-02-03 15:14:02 -0500 (Mon, 03 Feb 2025) EllapsedTime: 24.1 seconds RetCode: 0 Status: OK