Package: appreci8R Version: 1.27.0 Command: /home/biocbuild/R/R/bin/R CMD build --keep-empty-dirs --no-resave-data appreci8R StartedAt: 2025-10-06 21:37:59 -0000 (Mon, 06 Oct 2025) EndedAt: 2025-10-06 21:41:33 -0000 (Mon, 06 Oct 2025) EllapsedTime: 214.1 seconds RetCode: 0 Status: OK PackageFile: appreci8R_1.27.0.tar.gz PackageFileSize: 1005 KiB