Package: appreci8R Version: 1.27.0 Command: F:\biocbuild\bbs-3.22-bioc\R\bin\R.exe CMD INSTALL appreci8R StartedAt: 2025-08-14 17:04:21 -0400 (Thu, 14 Aug 2025) EndedAt: 2025-08-14 17:06:35 -0400 (Thu, 14 Aug 2025) EllapsedTime: 133.7 seconds RetCode: 0 Status: OK