Package: appreci8R Version: 1.27.0 Command: chmod a+r appreci8R -R && F:\biocbuild\bbs-3.22-bioc\R\bin\R.exe CMD build --keep-empty-dirs --no-resave-data appreci8R StartedAt: 2025-08-14 18:28:11 -0400 (Thu, 14 Aug 2025) EndedAt: 2025-08-14 18:31:44 -0400 (Thu, 14 Aug 2025) EllapsedTime: 212.4 seconds RetCode: 0 Status: OK PackageFile: appreci8R_1.27.0.tar.gz PackageFileSize: 891.4 KiB