Package: appreci8R Version: 1.27.0 Maintainer: Sarah Sandmann MaintainerEmail: sarah.sandmann at uni-muenster.de git_url: https://git.bioconductor.org/packages/appreci8R git_branch: devel git_last_commit: a058cc9 git_last_commit_date: 2025-04-15 11:35:15 -0400 (Tue, 15 Apr 2025)